Workbook
Name A: Hraci[Hráči]

Sheet Aktivity_Juniorov_2026_27
B1: Aktivity Juniorov 2026 / 27
B2: TOP 10
B3: 1 | C3: 2 | D3: 3 | E3: 4 | F3: 5
B4: =S11 -> Filip Varga | C4: =S12 -> Veronika Hrušecká | D4: =S13 -> David Varga | E4: =S14 -> Dominik Hrušecký | F4: =S15 -> Sára Kottferová
B6: 6 | C6: 7 | D6: 8 | E6: 9 | F6: 10
B7: =S16 -> Nela Kottferová | C7: =S17 -> Stella Farenzenová | D7: =S18 -> Michal Slávik | E7: =S19 -> Jakub Matuška | F7: =S20 -> Michal Matuška
B9: Aktivita | AC9: LEN SK-juniorské
B10: Dátum | C10: Turnaj | D10: Meno Priezvisko | E10: Typ | F10: Body Účasť | G10: Umiestnenie | H10: počet hráčov v skupine | I10: Body za Umiestnenie | J10: koef. hráča | K10: koef. Trénera | L10: Body spolu | M10: Klub | N10: Hodnotenie Trénera | O10: Tréner | P10: Poznámka | S10: Meno | T10: Sum of Body spolu | X10: Označenia riadkov | Y10: Počet z Turnaj | AB10: Počet z Turnaj | AC10: Označenia stĺpcov
B11: 46251 | C11: Sústredenie | D11: Dominik Hrušecký | E11: Regionálne sústredenia | F11: =VLOOKUP(E11,Data!$I$21:$J$30,2,FALSE) -> 2 | J11: =VLOOKUP(Workouts[[#This Row],[Meno Priezvisko]],Data!$E$62:$I$155,5,0) -> 1.2 | K11: =VLOOKUP(Workouts[[#This Row],[Tréner]],Data!$N$32:$O$48,2,0) -> 1.5 | L11: =(Workouts[[#This Row],[Body za Umiestnenie]]+Workouts[[#This Row],[Body Účasť]])*Workouts[[#This Row],[koef. hráča]] -> 2.4 | M11: =VLOOKUP(Workouts[[#This Row],[Meno Priezvisko]],Data!$E$62:$G$155,2,0) -> IMET SK BA | N11: =Workouts[[#This Row],[Body spolu]]*Workouts[[#This Row],[koef. Trénera]] -> 3.6 | O11: =VLOOKUP(Workouts[[#This Row],[Meno Priezvisko]],Data!$E$62:$G$155,3,0) -> Tóth, Tomáš | S11: Filip Varga | T11: 50.4 | X11: Filip Varga | Y11: 6 | AB11: Označenia riadkov | AC11: Slovenské Juniorské turnaje | AD11: Celkový súčet
B12: 46251 | C12: Sústredenie | D12: Veronika Hrušecká | E12: Regionálne sústredenia | F12: =VLOOKUP(E12,Data!$I$21:$J$30,2,FALSE) -> 2 | J12: =VLOOKUP(Workouts[[#This Row],[Meno Priezvisko]],Data!$E$62:$I$155,5,0) -> 1.2 | K12: =VLOOKUP(Workouts[[#This Row],[Tréner]],Data!$N$32:$O$48,2,0) -> 1.5 | L12: =(Workouts[[#This Row],[Body za Umiestnenie]]+Workouts[[#This Row],[Body Účasť]])*Workouts[[#This Row],[koef. hráča]] -> 2.4 | M12: =VLOOKUP(Workouts[[#This Row],[Meno Priezvisko]],Data!$E$62:$G$155,2,0) -> IMET SK BA | N12: =Workouts[[#This Row],[Body spolu]]*Workouts[[#This Row],[koef. Trénera]] -> 3.6 | O12: =VLOOKUP(Workouts[[#This Row],[Meno Priezvisko]],Data!$E$62:$G$155,3,0) -> Tóth, Tomáš | S12: Veronika Hrušecká | T12: 40.8 | X12: David Varga | Y12: 5 | AB12: Michal Jankovič | AC12: 1 | AD12: 1
B13: 46251 | C13: Sústredenie | D13: David Varga | E13: Regionálne sústredenia | F13: =VLOOKUP(E13,Data!$I$21:$J$30,2,FALSE) -> 2 | J13: =VLOOKUP(Workouts[[#This Row],[Meno Priezvisko]],Data!$E$62:$I$155,5,0) -> 1.2 | K13: =VLOOKUP(Workouts[[#This Row],[Tréner]],Data!$N$32:$O$48,2,0) -> 2.5 | L13: =(Workouts[[#This Row],[Body za Umiestnenie]]+Workouts[[#This Row],[Body Účasť]])*Workouts[[#This Row],[koef. hráča]] -> 2.4 | M13: =VLOOKUP(Workouts[[#This Row],[Meno Priezvisko]],Data!$E$62:$G$155,2,0) -> POHODA Trnava | N13: =Workouts[[#This Row],[Body spolu]]*Workouts[[#This Row],[koef. Trénera]] -> 6 | O13: =VLOOKUP(Workouts[[#This Row],[Meno Priezvisko]],Data!$E$62:$G$155,3,0) -> Varga, Patrik | S13: David Varga | T13: 37.2 | X13: Dominik Hrušecký | Y13: 5 | AB13: David Varga | AC13: 1 | AD13: 1
B14: 46251 | C14: Sústredenie | D14: Filip Varga | E14: Regionálne sústredenia | F14: =VLOOKUP(E14,Data!$I$21:$J$30,2,FALSE) -> 2 | J14: =VLOOKUP(Workouts[[#This Row],[Meno Priezvisko]],Data!$E$62:$I$155,5,0) -> 1.2 | K14: =VLOOKUP(Workouts[[#This Row],[Tréner]],Data!$N$32:$O$48,2,0) -> 2.5 | L14: =(Workouts[[#This Row],[Body za Umiestnenie]]+Workouts[[#This Row],[Body Účasť]])*Workouts[[#This Row],[koef. hráča]] -> 2.4 | M14: =VLOOKUP(Workouts[[#This Row],[Meno Priezvisko]],Data!$E$62:$G$155,2,0) -> POHODA Trnava | N14: =Workouts[[#This Row],[Body spolu]]*Workouts[[#This Row],[koef. Trénera]] -> 6 | O14: =VLOOKUP(Workouts[[#This Row],[Meno Priezvisko]],Data!$E$62:$G$155,3,0) -> Varga, Patrik | S14: Dominik Hrušecký | T14: 33.6 | X14: Veronika Hrušecká | Y14: 4 | AB14: Thomas Šulík | AC14: 1 | AD14: 1
B15: 46255 | C15: JT | D15: David Varga | E15: Regio | F15: =VLOOKUP(E15,Data!$I$21:$J$30,2,FALSE) -> 4 | G15: 6 | I15: 2 | J15: =VLOOKUP(Workouts[[#This Row],[Meno Priezvisko]],Data!$E$62:$I$155,5,0) -> 1.2 | K15: =VLOOKUP(Workouts[[#This Row],[Tréner]],Data!$N$32:$O$48,2,0) -> 2.5 | L15: =(Workouts[[#This Row],[Body za Umiestnenie]]+Workouts[[#This Row],[Body Účasť]])*Workouts[[#This Row],[koef. hráča]] -> 7.2 | M15: =VLOOKUP(Workouts[[#This Row],[Meno Priezvisko]],Data!$E$62:$G$155,2,0) -> POHODA Trnava | N15: =Workouts[[#This Row],[Body spolu]]*Workouts[[#This Row],[koef. Trénera]] -> 18 | O15: =VLOOKUP(Workouts[[#This Row],[Meno Priezvisko]],Data!$E$62:$G$155,3,0) -> Varga, Patrik | S15: Sára Kottferová | T15: 27.5 | X15: Sára Kottferová | Y15: 4 | AB15: Daniel Janík | AC15: 1 | AD15: 1
B16: 46255 | C16: JT | D16: Filip Varga | E16: Regio | F16: =VLOOKUP(E16,Data!$I$21:$J$30,2,FALSE) -> 4 | G16: 2 | I16: 10 | J16: =VLOOKUP(Workouts[[#This Row],[Meno Priezvisko]],Data!$E$62:$I$155,5,0) -> 1.2 | K16: =VLOOKUP(Workouts[[#This Row],[Tréner]],Data!$N$32:$O$48,2,0) -> 2.5 | L16: =(Workouts[[#This Row],[Body za Umiestnenie]]+Workouts[[#This Row],[Body Účasť]])*Workouts[[#This Row],[koef. hráča]] -> 16.8 | M16: =VLOOKUP(Workouts[[#This Row],[Meno Priezvisko]],Data!$E$62:$G$155,2,0) -> POHODA Trnava | N16: =Workouts[[#This Row],[Body spolu]]*Workouts[[#This Row],[koef. Trénera]] -> 42 | O16: =VLOOKUP(Workouts[[#This Row],[Meno Priezvisko]],Data!$E$62:$G$155,3,0) -> Varga, Patrik | S16: Nela Kottferová | T16: 26.4 | X16: Michal Matuška | Y16: 3 | AB16: Michal Slávik | AC16: 1 | AD16: 1
B17: 46262 | C17: Sústredenie | D17: Viliam Vaňo | E17: Sústredenia usporadúvané SSQA | F17: =VLOOKUP(E17,Data!$I$21:$J$30,2,FALSE) -> 4 | J17: =VLOOKUP(Workouts[[#This Row],[Meno Priezvisko]],Data!$E$62:$I$155,5,0) -> 1.1 | K17: =VLOOKUP(Workouts[[#This Row],[Tréner]],Data!$N$32:$O$48,2,0) -> 1.5 | L17: =(Workouts[[#This Row],[Body za Umiestnenie]]+Workouts[[#This Row],[Body Účasť]])*Workouts[[#This Row],[koef. hráča]] -> 4.4 | M17: =VLOOKUP(Workouts[[#This Row],[Meno Priezvisko]],Data!$E$62:$G$155,2,0) -> BALDI KE | N17: =Workouts[[#This Row],[Body spolu]]*Workouts[[#This Row],[koef. Trénera]] -> 6.6 | O17: =VLOOKUP(Workouts[[#This Row],[Meno Priezvisko]],Data!$E$62:$G$155,3,0) -> Koctur, Tomáš | S17: Stella Farenzenová | T17: 20.9 | X17: Nela Kottferová | Y17: 3 | AB17: Jakub Matuška | AC17: 1 | AD17: 1
B18: 46262 | C18: Sústredenie | D18: Michal Matuška | E18: Sústredenia usporadúvané SSQA | F18: =VLOOKUP(E18,Data!$I$21:$J$30,2,FALSE) -> 4 | J18: =VLOOKUP(Workouts[[#This Row],[Meno Priezvisko]],Data!$E$62:$I$155,5,0) -> 1.1 | K18: =VLOOKUP(Workouts[[#This Row],[Tréner]],Data!$N$32:$O$48,2,0) -> 1.5 | L18: =(Workouts[[#This Row],[Body za Umiestnenie]]+Workouts[[#This Row],[Body Účasť]])*Workouts[[#This Row],[koef. hráča]] -> 4.4 | M18: =VLOOKUP(Workouts[[#This Row],[Meno Priezvisko]],Data!$E$62:$G$155,2,0) -> BALDI KE | N18: =Workouts[[#This Row],[Body spolu]]*Workouts[[#This Row],[koef. Trénera]] -> 6.6 | O18: =VLOOKUP(Workouts[[#This Row],[Meno Priezvisko]],Data!$E$62:$G$155,3,0) -> Kuchárik, Tomáš | S18: Michal Slávik | T18: 19.95 | X18: Jakub Matuška | Y18: 3 | AB18: Lenka Hoghová | AC18: 1 | AD18: 1
B19: 46262 | C19: Sústredenie | D19: David Varga | E19: Sústredenia usporadúvané SSQA | F19: =VLOOKUP(E19,Data!$I$21:$J$30,2,FALSE) -> 4 | J19: =VLOOKUP(Workouts[[#This Row],[Meno Priezvisko]],Data!$E$62:$I$155,5,0) -> 1.2 | K19: =VLOOKUP(Workouts[[#This Row],[Tréner]],Data!$N$32:$O$48,2,0) -> 2.5 | L19: =(Workouts[[#This Row],[Body za Umiestnenie]]+Workouts[[#This Row],[Body Účasť]])*Workouts[[#This Row],[koef. hráča]] -> 4.8 | M19: =VLOOKUP(Workouts[[#This Row],[Meno Priezvisko]],Data!$E$62:$G$155,2,0) -> POHODA Trnava | N19: =Workouts[[#This Row],[Body spolu]]*Workouts[[#This Row],[koef. Trénera]] -> 12 | O19: =VLOOKUP(Workouts[[#This Row],[Meno Priezvisko]],Data!$E$62:$G$155,3,0) -> Varga, Patrik | S19: Jakub Matuška | T19: 17.6 | X19: Michal Jankovič | Y19: 2 | AB19: Kristína Trutzová | AC19: 1 | AD19: 1
B20: 46262 | C20: Sústredenie | D20: Jakub Matuška | E20: Sústredenia usporadúvané SSQA | F20: =VLOOKUP(E20,Data!$I$21:$J$30,2,FALSE) -> 4 | J20: =VLOOKUP(Workouts[[#This Row],[Meno Priezvisko]],Data!$E$62:$I$155,5,0) -> 1.1 | K20: =VLOOKUP(Workouts[[#This Row],[Tréner]],Data!$N$32:$O$48,2,0) -> 1.5 | L20: =(Workouts[[#This Row],[Body za Umiestnenie]]+Workouts[[#This Row],[Body Účasť]])*Workouts[[#This Row],[koef. hráča]] -> 4.4 | M20: =VLOOKUP(Workouts[[#This Row],[Meno Priezvisko]],Data!$E$62:$G$155,2,0) -> BALDI KE | N20: =Workouts[[#This Row],[Body spolu]]*Workouts[[#This Row],[koef. Trénera]] -> 6.6 | O20: =VLOOKUP(Workouts[[#This Row],[Meno Priezvisko]],Data!$E$62:$G$155,3,0) -> Kuchárik, Tomáš | S20: Michal Matuška | T20: 17.6 | X20: Michal Slávik | Y20: 2 | AB20: Stella Farenzenová | AC20: 1 | AD20: 1
B21: 46262 | C21: Sústredenie | D21: Filip Varga | E21: Sústredenia usporadúvané SSQA | F21: =VLOOKUP(E21,Data!$I$21:$J$30,2,FALSE) -> 4 | J21: =VLOOKUP(Workouts[[#This Row],[Meno Priezvisko]],Data!$E$62:$I$155,5,0) -> 1.2 | K21: =VLOOKUP(Workouts[[#This Row],[Tréner]],Data!$N$32:$O$48,2,0) -> 2.5 | L21: =(Workouts[[#This Row],[Body za Umiestnenie]]+Workouts[[#This Row],[Body Účasť]])*Workouts[[#This Row],[koef. hráča]] -> 4.8 | M21: =VLOOKUP(Workouts[[#This Row],[Meno Priezvisko]],Data!$E$62:$G$155,2,0) -> POHODA Trnava | N21: =Workouts[[#This Row],[Body spolu]]*Workouts[[#This Row],[koef. Trénera]] -> 12 | O21: =VLOOKUP(Workouts[[#This Row],[Meno Priezvisko]],Data!$E$62:$G$155,3,0) -> Varga, Patrik | S21: Yelysey Udodov | T21: 13.2 | X21: Viliam Vaňo | Y21: 2 | AB21: Lívia Janíková | AC21: 1 | AD21: 1
B22: 46262 | C22: Sústredenie | D22: Michaela Černoková | E22: Sústredenia usporadúvané SSQA | F22: =VLOOKUP(E22,Data!$I$21:$J$30,2,FALSE) -> 4 | J22: =VLOOKUP(Workouts[[#This Row],[Meno Priezvisko]],Data!$E$62:$I$155,5,0) -> 1.1 | K22: =VLOOKUP(Workouts[[#This Row],[Tréner]],Data!$N$32:$O$48,2,0) -> 1.5 | L22: =(Workouts[[#This Row],[Body za Umiestnenie]]+Workouts[[#This Row],[Body Účasť]])*Workouts[[#This Row],[koef. hráča]] -> 4.4 | M22: =VLOOKUP(Workouts[[#This Row],[Meno Priezvisko]],Data!$E$62:$G$155,2,0) -> BALDI KE | N22: =Workouts[[#This Row],[Body spolu]]*Workouts[[#This Row],[koef. Trénera]] -> 6.6 | O22: =VLOOKUP(Workouts[[#This Row],[Meno Priezvisko]],Data!$E$62:$G$155,3,0) -> Koctur, Tomáš | S22: Michal Jankovič | T22: 12.1 | X22: Yelysey Udodov | Y22: 2 | AB22: Filip Varga | AC22: 1 | AD22: 1
B23: 46262 | C23: Sústredenie | D23: Veronika Hrušecká | E23: Sústredenia usporadúvané SSQA | F23: =VLOOKUP(E23,Data!$I$21:$J$30,2,FALSE) -> 4 | J23: =VLOOKUP(Workouts[[#This Row],[Meno Priezvisko]],Data!$E$62:$I$155,5,0) -> 1.2 | K23: =VLOOKUP(Workouts[[#This Row],[Tréner]],Data!$N$32:$O$48,2,0) -> 1.5 | L23: =(Workouts[[#This Row],[Body za Umiestnenie]]+Workouts[[#This Row],[Body Účasť]])*Workouts[[#This Row],[koef. hráča]] -> 4.8 | M23: =VLOOKUP(Workouts[[#This Row],[Meno Priezvisko]],Data!$E$62:$G$155,2,0) -> IMET SK BA | N23: =Workouts[[#This Row],[Body spolu]]*Workouts[[#This Row],[koef. Trénera]] -> 7.2 | O23: =VLOOKUP(Workouts[[#This Row],[Meno Priezvisko]],Data!$E$62:$G$155,3,0) -> Tóth, Tomáš | S23: Lukáš Staviarsky | T23: 8.8 | X23: Stella Farenzenová | Y23: 2 | AB23: Lucia Húsková | AC23: 1 | AD23: 1
B24: 46262 | C24: Sústredenie | D24: Sára Kottferová | E24: Sústredenia usporadúvané SSQA | F24: =VLOOKUP(E24,Data!$I$21:$J$30,2,FALSE) -> 4 | J24: =VLOOKUP(Workouts[[#This Row],[Meno Priezvisko]],Data!$E$62:$I$155,5,0) -> 1.1 | K24: =VLOOKUP(Workouts[[#This Row],[Tréner]],Data!$N$32:$O$48,2,0) -> 1.5 | L24: =(Workouts[[#This Row],[Body za Umiestnenie]]+Workouts[[#This Row],[Body Účasť]])*Workouts[[#This Row],[koef. hráča]] -> 4.4 | M24: =VLOOKUP(Workouts[[#This Row],[Meno Priezvisko]],Data!$E$62:$G$155,2,0) -> BALDI KE | N24: =Workouts[[#This Row],[Body spolu]]*Workouts[[#This Row],[koef. Trénera]] -> 6.6 | O24: =VLOOKUP(Workouts[[#This Row],[Meno Priezvisko]],Data!$E$62:$G$155,3,0) -> Koctur, Tomáš | S24: Lilien Borisová | T24: 8.8 | X24: Thomas Šulík | Y24: 1 | AB24: Richard Šoltýs | AC24: 1 | AD24: 1
B25: 46262 | C25: Sústredenie | D25: Dorotka Erentová | E25: Sústredenia usporadúvané SSQA | F25: =VLOOKUP(E25,Data!$I$21:$J$30,2,FALSE) -> 4 | J25: =VLOOKUP(Workouts[[#This Row],[Meno Priezvisko]],Data!$E$62:$I$155,5,0) -> 1.1 | K25: =VLOOKUP(Workouts[[#This Row],[Tréner]],Data!$N$32:$O$48,2,0) -> 2.5 | L25: =(Workouts[[#This Row],[Body za Umiestnenie]]+Workouts[[#This Row],[Body Účasť]])*Workouts[[#This Row],[koef. hráča]] -> 4.4 | M25: =VLOOKUP(Workouts[[#This Row],[Meno Priezvisko]],Data!$E$62:$G$155,2,0) -> POHODA Trnava | N25: =Workouts[[#This Row],[Body spolu]]*Workouts[[#This Row],[koef. Trénera]] -> 11 | O25: =VLOOKUP(Workouts[[#This Row],[Meno Priezvisko]],Data!$E$62:$G$155,3,0) -> Varga, Patrik | S25: Viliam Vaňo | T25: 7.7 | X25: Daniel Janík | Y25: 1 | AB25: Martin Fecák | AC25: 1 | AD25: 1
B26: 46262 | C26: Sústredenie | D26: Nela Kottferová | E26: Sústredenia usporadúvané SSQA | F26: =VLOOKUP(E26,Data!$I$21:$J$30,2,FALSE) -> 4 | J26: =VLOOKUP(Workouts[[#This Row],[Meno Priezvisko]],Data!$E$62:$I$155,5,0) -> 1.1 | K26: =VLOOKUP(Workouts[[#This Row],[Tréner]],Data!$N$32:$O$48,2,0) -> 1.5 | L26: =(Workouts[[#This Row],[Body za Umiestnenie]]+Workouts[[#This Row],[Body Účasť]])*Workouts[[#This Row],[koef. hráča]] -> 4.4 | M26: =VLOOKUP(Workouts[[#This Row],[Meno Priezvisko]],Data!$E$62:$G$155,2,0) -> BALDI KE | N26: =Workouts[[#This Row],[Body spolu]]*Workouts[[#This Row],[koef. Trénera]] -> 6.6 | O26: =VLOOKUP(Workouts[[#This Row],[Meno Priezvisko]],Data!$E$62:$G$155,3,0) -> Koctur, Tomáš | S26: Sandra Slagter | T26: 4.4 | X26: Dorotka Erentová | Y26: 1 | AB26: Rayna Ontong | AC26: 1 | AD26: 1
B27: 46262 | C27: Sústredenie | D27: Sandra Slagter | E27: Sústredenia usporadúvané SSQA | F27: =VLOOKUP(E27,Data!$I$21:$J$30,2,FALSE) -> 4 | J27: =VLOOKUP(Workouts[[#This Row],[Meno Priezvisko]],Data!$E$62:$I$155,5,0) -> 1.1 | K27: =VLOOKUP(Workouts[[#This Row],[Tréner]],Data!$N$32:$O$48,2,0) -> 2.5 | L27: =(Workouts[[#This Row],[Body za Umiestnenie]]+Workouts[[#This Row],[Body Účasť]])*Workouts[[#This Row],[koef. hráča]] -> 4.4 | M27: =VLOOKUP(Workouts[[#This Row],[Meno Priezvisko]],Data!$E$62:$G$155,2,0) -> POHODA Trnava | N27: =Workouts[[#This Row],[Body spolu]]*Workouts[[#This Row],[koef. Trénera]] -> 11 | O27: =VLOOKUP(Workouts[[#This Row],[Meno Priezvisko]],Data!$E$62:$G$155,3,0) -> Varga, Patrik | S27: Dorotka Erentová | T27: 4.4 | X27: Adam Dubecký | Y27: 1 | AB27: Michal Matuška | AC27: 1 | AD27: 1
B28: 46277 | C28: T_B | D28: Dominik Hrušecký | E28: Slovenské turnaje kat. B | F28: =VLOOKUP(E28,Data!$I$21:$J$30,2,FALSE) -> 2 | G28: 2 | I28: 3 | J28: =VLOOKUP(Workouts[[#This Row],[Meno Priezvisko]],Data!$E$62:$I$155,5,0) -> 1.2 | K28: =VLOOKUP(Workouts[[#This Row],[Tréner]],Data!$N$32:$O$48,2,0) -> 1.5 | L28: =(Workouts[[#This Row],[Body za Umiestnenie]]+Workouts[[#This Row],[Body Účasť]])*Workouts[[#This Row],[koef. hráča]] -> 6 | M28: =VLOOKUP(Workouts[[#This Row],[Meno Priezvisko]],Data!$E$62:$G$155,2,0) -> IMET SK BA | N28: =Workouts[[#This Row],[Body spolu]]*Workouts[[#This Row],[koef. Trénera]] -> 9 | O28: =VLOOKUP(Workouts[[#This Row],[Meno Priezvisko]],Data!$E$62:$G$155,3,0) -> Tóth, Tomáš | S28: Kristína Trutzová | T28: 4.4 | X28: Lenka Hoghová | Y28: 1 | AB28: Dávid Pistrák | AC28: 1 | AD28: 1
B29: 46277 | C29: T_B | D29: Filip Varga | E29: Slovenské turnaje kat. B | F29: =VLOOKUP(E29,Data!$I$21:$J$30,2,FALSE) -> 2 | G29: 10 | J29: =VLOOKUP(Workouts[[#This Row],[Meno Priezvisko]],Data!$E$62:$I$155,5,0) -> 1.2 | K29: =VLOOKUP(Workouts[[#This Row],[Tréner]],Data!$N$32:$O$48,2,0) -> 2.5 | L29: =(Workouts[[#This Row],[Body za Umiestnenie]]+Workouts[[#This Row],[Body Účasť]])*Workouts[[#This Row],[koef. hráča]] -> 2.4 | M29: =VLOOKUP(Workouts[[#This Row],[Meno Priezvisko]],Data!$E$62:$G$155,2,0) -> POHODA Trnava | N29: =Workouts[[#This Row],[Body spolu]]*Workouts[[#This Row],[koef. Trénera]] -> 6 | O29: =VLOOKUP(Workouts[[#This Row],[Meno Priezvisko]],Data!$E$62:$G$155,3,0) -> Varga, Patrik | S29: Michaela Černoková | T29: 4.4 | X29: Lilien Borisová | Y29: 1 | AB29: Nela Kottferová | AC29: 1 | AD29: 1
B30: 46283 | C30: ESF | D30: Lilien Borisová | E30: ESF | F30: =VLOOKUP(E30,Data!$I$21:$J$30,2,FALSE) -> 8 | G30: 10 | J30: =VLOOKUP(Workouts[[#This Row],[Meno Priezvisko]],Data!$E$62:$I$155,5,0) -> 1.1 | K30: =VLOOKUP(Workouts[[#This Row],[Tréner]],Data!$N$32:$O$48,2,0) -> 1 | L30: =(Workouts[[#This Row],[Body za Umiestnenie]]+Workouts[[#This Row],[Body Účasť]])*Workouts[[#This Row],[koef. hráča]] -> 8.8 | M30: =VLOOKUP(Workouts[[#This Row],[Meno Priezvisko]],Data!$E$62:$G$155,2,0) -> ŠK Pionierska | N30: =Workouts[[#This Row],[Body spolu]]*Workouts[[#This Row],[koef. Trénera]] -> 8.8 | O30: =VLOOKUP(Workouts[[#This Row],[Meno Priezvisko]],Data!$E$62:$G$155,3,0) -> Tužinčin, Lukáš | S30: Daniel Janík | T30: 4.4 | X30: Lukáš Staviarsky | Y30: 1 | AB30: Adam Dubecký | AC30: 1 | AD30: 1
B31: 46283 | C31: ESF | D31: Stella Farenzenová | E31: ESF | F31: =VLOOKUP(E31,Data!$I$21:$J$30,2,FALSE) -> 8 | G31: 8 | I31: 6 | J31: =VLOOKUP(Workouts[[#This Row],[Meno Priezvisko]],Data!$E$62:$I$155,5,0) -> 1.1 | K31: =VLOOKUP(Workouts[[#This Row],[Tréner]],Data!$N$32:$O$48,2,0) -> 1 | L31: =(Workouts[[#This Row],[Body za Umiestnenie]]+Workouts[[#This Row],[Body Účasť]])*Workouts[[#This Row],[koef. hráča]] -> 15.4 | M31: =VLOOKUP(Workouts[[#This Row],[Meno Priezvisko]],Data!$E$62:$G$155,2,0) -> ŠK Pionierska | N31: =Workouts[[#This Row],[Body spolu]]*Workouts[[#This Row],[koef. Trénera]] -> 15.4 | O31: =VLOOKUP(Workouts[[#This Row],[Meno Priezvisko]],Data!$E$62:$G$155,3,0) -> Tužinčin, Lukáš | S31: Lucia Húsková | T31: 3.3 | X31: Lívia Janíková | Y31: 1 | AB31: Sára Kottferová | AC31: 1 | AD31: 1
B32: 46283 | C32: ESF | D32: Veronika Hrušecká | E32: ESF | F32: =VLOOKUP(E32,Data!$I$21:$J$30,2,FALSE) -> 8 | G32: 6 | I32: 6 | J32: =VLOOKUP(Workouts[[#This Row],[Meno Priezvisko]],Data!$E$62:$I$155,5,0) -> 1.2 | K32: =VLOOKUP(Workouts[[#This Row],[Tréner]],Data!$N$32:$O$48,2,0) -> 1.5 | L32: =(Workouts[[#This Row],[Body za Umiestnenie]]+Workouts[[#This Row],[Body Účasť]])*Workouts[[#This Row],[koef. hráča]] -> 16.8 | M32: =VLOOKUP(Workouts[[#This Row],[Meno Priezvisko]],Data!$E$62:$G$155,2,0) -> IMET SK BA | N32: =Workouts[[#This Row],[Body spolu]]*Workouts[[#This Row],[koef. Trénera]] -> 25.2 | O32: =VLOOKUP(Workouts[[#This Row],[Meno Priezvisko]],Data!$E$62:$G$155,3,0) -> Tóth, Tomáš | S32: Lenka Hoghová | T32: 3.15 | X32: Richard Šoltýs | Y32: 1 | AB32: Celkový súčet | AC32: 20 | AD32: 20
B33: 46283 | C33: ESF | D33: Dominik Hrušecký | E33: ESF | F33: =VLOOKUP(E33,Data!$I$21:$J$30,2,FALSE) -> 8 | G33: 19 | J33: =VLOOKUP(Workouts[[#This Row],[Meno Priezvisko]],Data!$E$62:$I$155,5,0) -> 1.2 | K33: =VLOOKUP(Workouts[[#This Row],[Tréner]],Data!$N$32:$O$48,2,0) -> 1.5 | L33: =(Workouts[[#This Row],[Body za Umiestnenie]]+Workouts[[#This Row],[Body Účasť]])*Workouts[[#This Row],[koef. hráča]] -> 9.6 | M33: =VLOOKUP(Workouts[[#This Row],[Meno Priezvisko]],Data!$E$62:$G$155,2,0) -> IMET SK BA | N33: =Workouts[[#This Row],[Body spolu]]*Workouts[[#This Row],[koef. Trénera]] -> 14.4 | O33: =VLOOKUP(Workouts[[#This Row],[Meno Priezvisko]],Data!$E$62:$G$155,3,0) -> Tóth, Tomáš | S33: Richard Šoltýs | T33: 3.15 | X33: Lucia Húsková | Y33: 1
B34: 46283 | C34: ESF | D34: Michal Jankovič | E34: ESF | F34: =VLOOKUP(E34,Data!$I$21:$J$30,2,FALSE) -> 8 | G34: 10 | J34: =VLOOKUP(Workouts[[#This Row],[Meno Priezvisko]],Data!$E$62:$I$155,5,0) -> 1.1 | K34: =VLOOKUP(Workouts[[#This Row],[Tréner]],Data!$N$32:$O$48,2,0) -> 1 | L34: =(Workouts[[#This Row],[Body za Umiestnenie]]+Workouts[[#This Row],[Body Účasť]])*Workouts[[#This Row],[koef. hráča]] -> 8.8 | M34: =VLOOKUP(Workouts[[#This Row],[Meno Priezvisko]],Data!$E$62:$G$155,2,0) -> ŠK Pionierska | N34: =Workouts[[#This Row],[Body spolu]]*Workouts[[#This Row],[koef. Trénera]] -> 8.8 | O34: =VLOOKUP(Workouts[[#This Row],[Meno Priezvisko]],Data!$E$62:$G$155,3,0) -> Ontong, Daniel | S34: Dávid Pistrák | T34: 3.15 | X34: Rayna Ontong | Y34: 1
B35: 46283 | C35: ESF | D35: Nela Kottferová | E35: ESF | F35: =VLOOKUP(E35,Data!$I$21:$J$30,2,FALSE) -> 8 | G35: 4 | I35: 6 | J35: =VLOOKUP(Workouts[[#This Row],[Meno Priezvisko]],Data!$E$62:$I$155,5,0) -> 1.1 | K35: =VLOOKUP(Workouts[[#This Row],[Tréner]],Data!$N$32:$O$48,2,0) -> 1.5 | L35: =(Workouts[[#This Row],[Body za Umiestnenie]]+Workouts[[#This Row],[Body Účasť]])*Workouts[[#This Row],[koef. hráča]] -> 15.4 | M35: =VLOOKUP(Workouts[[#This Row],[Meno Priezvisko]],Data!$E$62:$G$155,2,0) -> BALDI KE | N35: =Workouts[[#This Row],[Body spolu]]*Workouts[[#This Row],[koef. Trénera]] -> 23.1 | O35: =VLOOKUP(Workouts[[#This Row],[Meno Priezvisko]],Data!$E$62:$G$155,3,0) -> Koctur, Tomáš | S35: Martin Fecák | T35: 2.2 | X35: Sandra Slagter | Y35: 1
B36: 46283 | C36: ESF | D36: Sára Kottferová | E36: ESF | F36: =VLOOKUP(E36,Data!$I$21:$J$30,2,FALSE) -> 8 | G36: 8 | I36: 6 | J36: =VLOOKUP(Workouts[[#This Row],[Meno Priezvisko]],Data!$E$62:$I$155,5,0) -> 1.1 | K36: =VLOOKUP(Workouts[[#This Row],[Tréner]],Data!$N$32:$O$48,2,0) -> 1.5 | L36: =(Workouts[[#This Row],[Body za Umiestnenie]]+Workouts[[#This Row],[Body Účasť]])*Workouts[[#This Row],[koef. hráča]] -> 15.4 | M36: =VLOOKUP(Workouts[[#This Row],[Meno Priezvisko]],Data!$E$62:$G$155,2,0) -> BALDI KE | N36: =Workouts[[#This Row],[Body spolu]]*Workouts[[#This Row],[koef. Trénera]] -> 23.1 | O36: =VLOOKUP(Workouts[[#This Row],[Meno Priezvisko]],Data!$E$62:$G$155,3,0) -> Koctur, Tomáš | S36: Adam Dubecký | T36: 2.2 | X36: Dávid Pistrák | Y36: 1
B37: 46283 | C37: ESF | D37: Jakub Matuška | E37: ESF | F37: =VLOOKUP(E37,Data!$I$21:$J$30,2,FALSE) -> 8 | G37: 10 | J37: =VLOOKUP(Workouts[[#This Row],[Meno Priezvisko]],Data!$E$62:$I$155,5,0) -> 1.1 | K37: =VLOOKUP(Workouts[[#This Row],[Tréner]],Data!$N$32:$O$48,2,0) -> 1.5 | L37: =(Workouts[[#This Row],[Body za Umiestnenie]]+Workouts[[#This Row],[Body Účasť]])*Workouts[[#This Row],[koef. hráča]] -> 8.8 | M37: =VLOOKUP(Workouts[[#This Row],[Meno Priezvisko]],Data!$E$62:$G$155,2,0) -> BALDI KE | N37: =Workouts[[#This Row],[Body spolu]]*Workouts[[#This Row],[koef. Trénera]] -> 13.2 | O37: =VLOOKUP(Workouts[[#This Row],[Meno Priezvisko]],Data!$E$62:$G$155,3,0) -> Kuchárik, Tomáš | S37: Lívia Janíková | T37: 2.2 | X37: Martin Fecák | Y37: 1
B38: 46283 | C38: ESF | D38: Michal Matuška | E38: ESF | F38: =VLOOKUP(E38,Data!$I$21:$J$30,2,FALSE) -> 8 | G38: 20 | J38: =VLOOKUP(Workouts[[#This Row],[Meno Priezvisko]],Data!$E$62:$I$155,5,0) -> 1.1 | K38: =VLOOKUP(Workouts[[#This Row],[Tréner]],Data!$N$32:$O$48,2,0) -> 1.5 | L38: =(Workouts[[#This Row],[Body za Umiestnenie]]+Workouts[[#This Row],[Body Účasť]])*Workouts[[#This Row],[koef. hráča]] -> 8.8 | M38: =VLOOKUP(Workouts[[#This Row],[Meno Priezvisko]],Data!$E$62:$G$155,2,0) -> BALDI KE | N38: =Workouts[[#This Row],[Body spolu]]*Workouts[[#This Row],[koef. Trénera]] -> 13.2 | O38: =VLOOKUP(Workouts[[#This Row],[Meno Priezvisko]],Data!$E$62:$G$155,3,0) -> Kuchárik, Tomáš | S38: Thomas Šulík | T38: 2.1 | X38: Kristína Trutzová | Y38: 1
B39: 46283 | C39: ESF | D39: Michal Slávik | E39: ESF | F39: =VLOOKUP(E39,Data!$I$21:$J$30,2,FALSE) -> 8 | G39: 8 | I39: 6 | J39: =VLOOKUP(Workouts[[#This Row],[Meno Priezvisko]],Data!$E$62:$I$155,5,0) -> 1.05 | K39: =VLOOKUP(Workouts[[#This Row],[Tréner]],Data!$N$32:$O$48,2,0) -> 1.5 | L39: =(Workouts[[#This Row],[Body za Umiestnenie]]+Workouts[[#This Row],[Body Účasť]])*Workouts[[#This Row],[koef. hráča]] -> 14.7 | M39: =VLOOKUP(Workouts[[#This Row],[Meno Priezvisko]],Data!$E$62:$G$155,2,0) -> IMET SK BA | N39: =Workouts[[#This Row],[Body spolu]]*Workouts[[#This Row],[koef. Trénera]] -> 22.05 | O39: =VLOOKUP(Workouts[[#This Row],[Meno Priezvisko]],Data!$E$62:$G$155,3,0) -> Tóth, Tomáš | S39: Rayna Ontong | T39: 2.1 | X39: Michaela Černoková | Y39: 1
B40: 46283 | C40: ESF | D40: Lukáš Staviarsky | E40: ESF | F40: =VLOOKUP(E40,Data!$I$21:$J$30,2,FALSE) -> 8 | G40: 14 | J40: =VLOOKUP(Workouts[[#This Row],[Meno Priezvisko]],Data!$E$62:$I$155,5,0) -> 1.1 | K40: =VLOOKUP(Workouts[[#This Row],[Tréner]],Data!$N$32:$O$48,2,0) -> 1.5 | L40: =(Workouts[[#This Row],[Body za Umiestnenie]]+Workouts[[#This Row],[Body Účasť]])*Workouts[[#This Row],[koef. hráča]] -> 8.8 | M40: =VLOOKUP(Workouts[[#This Row],[Meno Priezvisko]],Data!$E$62:$G$155,2,0) -> BALDI KE | N40: =Workouts[[#This Row],[Body spolu]]*Workouts[[#This Row],[koef. Trénera]] -> 13.2 | O40: =VLOOKUP(Workouts[[#This Row],[Meno Priezvisko]],Data!$E$62:$G$155,3,0) -> Fecák, Tomáš | S40: Celkový súčet | T40: 388.1 | X40: Celkový súčet | Y40: 59
B41: 46283 | C41: ESF | D41: Yelysey Udodov | E41: ESF | F41: =VLOOKUP(E41,Data!$I$21:$J$30,2,FALSE) -> 8 | G41: 17 | J41: =VLOOKUP(Workouts[[#This Row],[Meno Priezvisko]],Data!$E$62:$I$155,5,0) -> 1.2 | K41: =VLOOKUP(Workouts[[#This Row],[Tréner]],Data!$N$32:$O$48,2,0) -> 2 | L41: =(Workouts[[#This Row],[Body za Umiestnenie]]+Workouts[[#This Row],[Body Účasť]])*Workouts[[#This Row],[koef. hráča]] -> 9.6 | M41: =VLOOKUP(Workouts[[#This Row],[Meno Priezvisko]],Data!$E$62:$G$155,2,0) -> ŠK Pionierska | N41: =Workouts[[#This Row],[Body spolu]]*Workouts[[#This Row],[koef. Trénera]] -> 19.2 | O41: =VLOOKUP(Workouts[[#This Row],[Meno Priezvisko]],Data!$E$62:$G$155,3,0) -> Lorinčík, Dušan
B42: 46283 | C42: ESF | D42: David Varga | E42: ESF | F42: =VLOOKUP(E42,Data!$I$21:$J$30,2,FALSE) -> 8 | G42: 5 | I42: 6 | J42: =VLOOKUP(Workouts[[#This Row],[Meno Priezvisko]],Data!$E$62:$I$155,5,0) -> 1.2 | K42: =VLOOKUP(Workouts[[#This Row],[Tréner]],Data!$N$32:$O$48,2,0) -> 2.5 | L42: =(Workouts[[#This Row],[Body za Umiestnenie]]+Workouts[[#This Row],[Body Účasť]])*Workouts[[#This Row],[koef. hráča]] -> 16.8 | M42: =VLOOKUP(Workouts[[#This Row],[Meno Priezvisko]],Data!$E$62:$G$155,2,0) -> POHODA Trnava | N42: =Workouts[[#This Row],[Body spolu]]*Workouts[[#This Row],[koef. Trénera]] -> 42 | O42: =VLOOKUP(Workouts[[#This Row],[Meno Priezvisko]],Data!$E$62:$G$155,3,0) -> Varga, Patrik
...

Sheet Data
B1: hraci
B2: Hráči | F2: Bodové ohodnotenie
B3: Peter Amzler | F3: Turnaje
B4: Yelysey Udodov | G4: ESF | H4: Regio | I4: Slovenské Juniorské turnaje | J4: Slovenské turnaje kat. A | K4: Slovenské turnaje kat. B
B5: Dominik Hrušecký | F5: Účasť | G5: 8 | H5: 4 | I5: 2 | J5: 3 | K5: 2
B6: Veronika Hrušecká | G6: umiestnenie
B7: Niki van Knippenbergh | F7: 1. miesto | G7: 20 | H7: 16 | I7: PB=PHVK - U | J7: 6 | K7: 5
B8: Tara van Knippenbergh | F8: 2. miesto | G8: 16 | H8: 10 | J8: 4 | K8: 3
B9: Lucia Pavlíková | F9: 3. miesto | G9: 10 | H9: 6 | J9: 2 | K9: 2
B10: Viliam Vaňo | F10: 4. - 8. miesto | G10: 6 | H10: 2 | J10: 1 | K10: 1
B11: Radka Mužíková
B12: Sára Kottferová | G12: Podporné aktivity a školenia
B13: Nela Kottferová | G13: Sústredenia usporadúvané SSQA | I13: 4
B14: Michaela Černoková | G14: Regionálne sústredenia | I14: 2
B15: Lukáš Staviarsky | G15: Školenia trénerov | I15: 3
B16: Klára Staviarska | G16: Školenia rozhodcov | I16: 3
B17: Filip Varga
B18: David Varga
B19: Paula Slagter | F19: Table4
B20: Sandra Slagter
B21: Dorotka Erentová | F21: Typ_T | G21: ucast | I21: Typ_T | J21: ucast
B22: Sebastián Vaňo | F22: ESF | G22: 8 | I22: ESF | J22: 8
B23: Linda Slagter | F23: Regio | G23: 4 | I23: Regio | J23: 4
B24: Lucia Húsková | F24: Slovenské Juniorské turnaje | G24: 2 | I24: Regionálne sústredenia | J24: 2
B25: Soňa Pravdová | F25: Slovenské turnaje kat. A | G25: 3 | I25: Školenia rozhodcov | J25: 3
B26: Dávid Gerard | F26: Slovenské turnaje kat. B | G26: 2 | I26: Školenia trénerov | J26: 3
B27: Sebastián Jelínek | F27: Sústredenia usporadúvané SSQA | G27: 4 | I27: Slovenské Juniorské turnaje | J27: 2
B28: Michal Wittinger | F28: Regionálne sústredenia | G28: 2 | I28: Slovenské turnaje kat. A | J28: 3
B29: Oliver Kapko | F29: Školenia trénerov | G29: 3 | I29: Slovenské turnaje kat. B | J29: 2
B30: Tamara Fabiánová | F30: Školenia rozhodcov | G30: 3 | I30: Sústredenia usporadúvané SSQA | J30: 4
B31: Lívia Janíková
B32: Martin Fecák | N32: Tréner | O32: Koef
B33: Timothy Münnich | F33: ESF | I33: 10 | N33: Varga, Patrik | O33: 2.5
B34: Daniel Janík | I34: 6 | N34: Tóth, Tomáš | O34: 1.5
B35: Martin Zápotocký | G35: ESF | H35: Regio | I35: Slovenské Juniorské turnaje | J35: Slovenské turnaje kat. A | K35: Slovenské turnaje kat. B | N35: Fecák, Tomáš | O35: 1.5
B36: Nathaniel Jelínek | F36: U | G36: 8 | H36: 4 | I36: 2 | J36: 3 | K36: 2 | N36: Koctur, Tomáš | O36: 1.5
B37: Michal Jankovič | F37: 1 | G37: 20 | H37: 16 | I37: =I33-I34 -> 4 | J37: 6 | K37: 5 | N37: Lorinčík, Dušan | O37: 2
B38: Adam Dubecký | F38: 2 | G38: 16 | H38: 10 | J38: 4 | K38: 3 | N38: Kohlerová, Klára | O38: 1.5
B39: Ondrej Chmel | F39: 3 | G39: 10 | H39: 6 | J39: 2 | K39: 2 | N39: Tužinčin, Lukáš | O39: 1
B40: Stella Farenzenová | F40: 4 | G40: 6 | H40: 2 | J40: 1 | K40: 1 | N40: Kuchárik, Tomáš | O40: 1.5
...

Sheet Hráči
C1: Meno | D1: Priezvisko | E1: PRIEZVISKO | F1: SPOLU
C2: Peter | D2: Amzler | E2: =UPPER(D2) -> AMZLER | F2: =E2&" " &C2 -> AMZLER Peter
C3: Yelysey | D3: Udodov | E3: =UPPER(D3) -> UDODOV | F3: =E3&" " &C3 -> UDODOV Yelysey
C4: Dominik | D4: Hrušecký | E4: =UPPER(D4) -> HRUŠECKÝ | F4: =E4&" " &C4 -> HRUŠECKÝ Dominik
C5: Veronika | D5: Hrušecká | E5: =UPPER(D5) -> HRUŠECKÁ | F5: =E5&" " &C5 -> HRUŠECKÁ Veronika
C6: Niki | D6: van Knippenbergh | E6: =UPPER(D6) -> VAN KNIPPENBERGH | F6: =E6&" " &C6 -> VAN KNIPPENBERGH Niki
C7: Tara | D7: van Knippenbergh | E7: =UPPER(D7) -> VAN KNIPPENBERGH | F7: =E7&" " &C7 -> VAN KNIPPENBERGH Tara
C8: Lucia | D8: Pavlíková | E8: =UPPER(D8) -> PAVLÍKOVÁ | F8: =E8&" " &C8 -> PAVLÍKOVÁ Lucia
C9: Viliam | D9: Vaňo | E9: =UPPER(D9) -> VAŇO | F9: =E9&" " &C9 -> VAŇO Viliam
C10: Radka | D10: Mužíková | E10: =UPPER(D10) -> MUŽÍKOVÁ | F10: =E10&" " &C10 -> MUŽÍKOVÁ Radka
C11: Sára | D11: Kottferová | E11: =UPPER(D11) -> KOTTFEROVÁ | F11: =E11&" " &C11 -> KOTTFEROVÁ Sára
C12: Nela | D12: Kottferová | E12: =UPPER(D12) -> KOTTFEROVÁ | F12: =E12&" " &C12 -> KOTTFEROVÁ Nela
C13: Michaela | D13: Černoková | E13: =UPPER(D13) -> ČERNOKOVÁ | F13: =E13&" " &C13 -> ČERNOKOVÁ Michaela
... C74: Maxim | D74: Šoltis | E74: =UPPER(D74) -> ŠOLTIS | F74: =E74&" " &C74 -> ŠOLTIS Maxim
A75: pridané 5.6.2026 | C75: Adam | D75: Marke | E75: =UPPER(D75) -> MARKE | F75: =E75&" " &C75 -> MARKE Adam | G75: =CONCATENATE(C75," ",D75) -> Adam Marke
A76: pridané 5.6.2026 | C76: Oliver | D76: Krivda | E76: =UPPER(D76) -> KRIVDA | F76: =E76&" " &C76 -> KRIVDA Oliver | G76: =CONCATENATE(C76," ",D76) -> Oliver Krivda
A77: pridané 5.6.2026 | C77: Martina | D77: Vnenčáková | E77: =UPPER(D77) -> VNENČÁKOVÁ | F77: =E77&" " &C77 -> VNENČÁKOVÁ Martina | G77: =CONCATENATE(C77," ",D77) -> Martina Vnenčáková
A78: pridané 5.6.2026 | C78: Ester | D78: Poradová | E78: =UPPER(D78) -> PORADOVÁ | F78: =E78&" " &C78 -> PORADOVÁ Ester | G78: =CONCATENATE(C78," ",D78) -> Ester Poradová
A79: pridané 5.6.2026 | C79: Lilien | D79: Milošovič | E79: =UPPER(D79) -> MILOŠOVIČ | F79: =E79&" " &C79 -> MILOŠOVIČ Lilien | G79: =CONCATENATE(C79," ",D79) -> Lilien Milošovič
A80: pridané 5.6.2026 | C80: Grétka | D80: Šeredová | E80: =UPPER(D80) -> ŠEREDOVÁ | F80: =E80&" " &C80 -> ŠEREDOVÁ Grétka | G80: =CONCATENATE(C80," ",D80) -> Grétka Šeredová
A81: pridané 5.6.2026 | C81: Rayna | D81: Ontong | E81: =UPPER(D81) -> ONTONG | F81: =E81&" " &C81 -> ONTONG Rayna | G81: =CONCATENATE(C81," ",D81) -> Rayna Ontong
A82: pridané 5.6.2026 | C82: Martina | D82: Húsková | E82: =UPPER(D82) -> HÚSKOVÁ | F82: =E82&" " &C82 -> HÚSKOVÁ Martina | G82: =CONCATENATE(C82," ",D82) -> Martina Húsková
A83: pridané 5.6.2026 | C83: Miriam | D83: Jankovičová | E83: =UPPER(D83) -> JANKOVIČOVÁ | F83: =E83&" " &C83 -> JANKOVIČOVÁ Miriam | G83: =CONCATENATE(C83," ",D83) -> Miriam Jankovičová
A84: pridané 5.6.2026 | C84: Emma | D84: Vnenčáková | E84: =UPPER(D84) -> VNENČÁKOVÁ | F84: =E84&" " &C84 -> VNENČÁKOVÁ Emma | G84: =CONCATENATE(C84," ",D84) -> Emma Vnenčáková
A85: pridané 5.6.2026 | C85: Leoni | D85: Hozlárová | E85: =UPPER(D85) -> HOZLÁROVÁ | F85: =E85&" " &C85 -> HOZLÁROVÁ Leoni | G85: =CONCATENATE(C85," ",D85) -> Leoni Hozlárová
A86: pridané 15.10.2026 | C86: Lenka | D86: Hoghová | E86: =UPPER(D86) -> HOGHOVÁ | F86: =E86&" " &C86 -> HOGHOVÁ Lenka | G86: =CONCATENATE(C86," ",D86) -> Lenka Hoghová
... A88: pridané 15.10.2026 | C88: Thomas | D88: Šulík | E88: =UPPER(D88) -> ŠULÍK | F88: =E88&" " &C88 -> ŠULÍK Thomas | G88: =CONCATENATE(C88," ",D88) -> Thomas Šulík
